BEGIN:VCALENDAR
VERSION:2.0
PRODID:-//Evergreen Advisors - ECPv6.15.20//NONSGML v1.0//EN
CALSCALE:GREGORIAN
METHOD:PUBLISH
X-WR-CALNAME:Evergreen Advisors
X-ORIGINAL-URL:https://evergreenadvisorsllc.com
X-WR-CALDESC:Events for Evergreen Advisors
REFRESH-INTERVAL;VALUE=DURATION:PT1H
X-Robots-Tag:noindex
X-PUBLISHED-TTL:PT1H
BEGIN:VTIMEZONE
TZID:America/New_York
BEGIN:DAYLIGHT
TZOFFSETFROM:-0500
TZOFFSETTO:-0400
TZNAME:EDT
DTSTART:20240310T070000
END:DAYLIGHT
BEGIN:STANDARD
TZOFFSETFROM:-0400
TZOFFSETTO:-0500
TZNAME:EST
DTSTART:20241103T060000
END:STANDARD
BEGIN:DAYLIGHT
TZOFFSETFROM:-0500
TZOFFSETTO:-0400
TZNAME:EDT
DTSTART:20250309T070000
END:DAYLIGHT
BEGIN:STANDARD
TZOFFSETFROM:-0400
TZOFFSETTO:-0500
TZNAME:EST
DTSTART:20251102T060000
END:STANDARD
BEGIN:DAYLIGHT
TZOFFSETFROM:-0500
TZOFFSETTO:-0400
TZNAME:EDT
DTSTART:20260308T070000
END:DAYLIGHT
BEGIN:STANDARD
TZOFFSETFROM:-0400
TZOFFSETTO:-0500
TZNAME:EST
DTSTART:20261101T060000
END:STANDARD
END:VTIMEZONE
BEGIN:VEVENT
DTSTART;TZID=America/New_York:20250505T170000
DTEND;TZID=America/New_York:20250505T193000
DTSTAMP:20260422T053947
CREATED:20250311T131625Z
LAST-MODIFIED:20250411T143724Z
UID:25180-1746464400-1746473400@evergreenadvisorsllc.com
SUMMARY:Cybersecurity Assocation: Women in Cyber Casino Night
DESCRIPTION:Join us for the Women in Cyber Social Casino Night – a unique opportunity to celebrate and empower women leaders in cybersecurity. Network with industry professionals\, share experiences\, and recognize the achievements of women in tech. \n\n\n\nThis engaging event blends networking and fun\, highlighting the importance of diversity and inclusion in cybersecurity. Don’t miss out on this exciting gathering in 2025!
URL:https://evergreenadvisorsllc.com/upcomingevent/cybersecurity-assocation-women-in-cyber-casino-night/
LOCATION:bwtech@UMBCSouth\, 1450 S Rolling Rd\, Arbutus\, Maryland\, 21227
END:VEVENT
BEGIN:VEVENT
DTSTART;TZID=America/New_York:20250508T073000
DTEND;TZID=America/New_York:20250508T093000
DTSTAMP:20260422T053947
CREATED:20250304T133551Z
LAST-MODIFIED:20250304T133555Z
UID:25125-1746689400-1746696600@evergreenadvisorsllc.com
SUMMARY:Howard County Estate Planning Council: AI in Estate Planing
DESCRIPTION:Membership Breakfast \n\n\n\nSpeaker: Martin Oimet\, Brown Advisory  \n\n\n\nAbout the Program:Artificial intelligence will increasingly intersect with our personal and professional lives. Join us for an analysis and discussion of how to manage data and use AI to increase efficiency in your practice while navigating privacy concerns and client confidentiality. Don’t miss this timely and important session. \n\n\n\nAbout the Speaker: As Director of Business Data and Analytics at Brown Advisory\, Martin is responsible for identifying areas and driving initiatives that deliver business value via adoption of Artificial Intelligence\, improved data practices and overall better use of technology. Prior to Brown Advisory\, Martin was a Managing Director at Hobbs Madison and a Managing Director and Partner at the Boston Consulting Group (BCG) and BCG GAMMA. Since joining BCG in 2008\, Martin focused his client work on large-scale transformation\, strategy\, data science\, AI\, data management and analytics across all business functions within Financial Services. He holds a PhD in computer systems from MIT.
URL:https://evergreenadvisorsllc.com/upcomingevent/howard-county-estate-planning-council-ai-in-estate-planing/
END:VEVENT
BEGIN:VEVENT
DTSTART;TZID=America/New_York:20250514T080000
DTEND;TZID=America/New_York:20250514T140000
DTSTAMP:20260422T053947
CREATED:20250311T130819Z
LAST-MODIFIED:20250311T130822Z
UID:25177-1747209600-1747231200@evergreenadvisorsllc.com
SUMMARY:Cybersecurity Assocation: CMMC Summit
DESCRIPTION:2025 CMMC Summit: Navigating Cybersecurity Compliance and Best Practices for the Defense Industry \n\n\n\nJoin us at the 2025 CMMC Summit for expert-led discussions on key cybersecurity topics\, including: \n\n\n\n\nDefining CMMC 2.0 and its key updates\n\n\n\nUnderstanding CUI and how to protect it\n\n\n\nDetermining your required CMMC level and readiness\n\n\n\nSteps to achieve your CMMC level\n\n\n\nTo be assessed or not to be assessed: What’s right for you?\n\n\n\nUnderstanding the difference between FedRamp compliance vs CMMC\n\n\n\n\nDon’t miss out on this opportunity to gain valuable insights into cybersecurity compliance for the defense industry!
URL:https://evergreenadvisorsllc.com/upcomingevent/cybersecurity-assocation-cmmc-summit/
LOCATION:Technology Advancement Center\, 7000 Columbia Gateway\, Suite 150
END:VEVENT
BEGIN:VEVENT
DTSTART;TZID=America/New_York:20250514T080000
DTEND;TZID=America/New_York:20250514T140000
DTSTAMP:20260422T053947
CREATED:20250411T151426Z
LAST-MODIFIED:20250411T151429Z
UID:25271-1747209600-1747231200@evergreenadvisorsllc.com
SUMMARY:CMMC Summit
DESCRIPTION:Join the Cybersecurity Association at the 2025 CMMC Summit for expert-led discussions on key cybersecurity topics\, including: \n\n\n\n\nDefining CMMC 2.0 and its key updates\n\n\n\nUnderstanding CUI and how to protect it\n\n\n\nDetermining your required CMMC level and readiness\n\n\n\nSteps to achieve your CMMC level\n\n\n\nTo be assessed or not to be assessed: What’s right for you?\n\n\n\nUnderstanding the difference between FedRamp compliance vs CMMC\n\n\n\n\nDon’t miss out on this opportunity to gain valuable insights into cybersecurity compliance for the defense industry!
URL:https://evergreenadvisorsllc.com/upcomingevent/cmmc-summit/
LOCATION:Technology Advancement Center\, 7000 Columbia Gateway\, Suite 150
END:VEVENT
BEGIN:VEVENT
DTSTART;TZID=America/New_York:20250521T170000
DTEND;TZID=America/New_York:20250521T203000
DTSTAMP:20260422T053947
CREATED:20250228T142126Z
LAST-MODIFIED:20250228T142130Z
UID:25100-1747846800-1747859400@evergreenadvisorsllc.com
SUMMARY:Maryland Tech Council ICON Awards
DESCRIPTION:The ICON Awards honor the best in Maryland’s technology and life sciences communities. An icon is a person who is “widely admired especially for having great influence or significance” in their community. Each year our awards celebration honors the best in Maryland’s technology and life sciences communities. Individuals and companies are recognized for their work in developing the treatments\, designing the systems\, and teaching the children\, that have ultimately touched the lives of millions of people. It’s a gathering of great minds and passion from those that believe in the future. \n\n\n\nFinalists for the 2025 ICON Awards include: \n\n\n\nLife Sciences CEO of the Year \n\n\n\n\nJesse Christopher\, Co-Founder and CEO\, Longeviti Neuro Solutions\n\n\n\nHelen Sabzevari\, Ph.D.\, President and CEO\, Precigen\n\n\n\nVidya Chari\, Co-Founder and CEO\, Axle\n\n\n\nKatherine Stueland\, CEO\, GeneDx\n\n\n\n\nTechnology CEO of the Year \n\n\n\n\nPeter Chapman\, President and CEO\, IonQ\n\n\n\nElizabeth Clayborne\, Co-Founder and CEO\, NasaClip\n\n\n\nSathya Elumalai\, President and CEO\, Aidar Health\n\n\n\nAida Keehner\, CEO\, Atruent\n\n\n\nXiaonao Liu\, CEO\, Nanobiofab\n\n\n\n\nGovernment Contracting CEO of the Year \n\n\n\n\nRaghu Akkapeddi\, CEO\, Index Analytics\n\n\n\nGary Daigle\, CEO\, RealmOne\n\n\n\nRajan Natarajan\, CEO\, Global Alliant\n\n\n\nAnil Sharma\, CEO\, 22nd Century Technologies\n\n\n\nGurpreet Singh\, CEO\, Infotrend\n\n\n\n\nC-Suite of the Year \n\n\n\n\nDamien Bates\, Chief Medical Officer\, Cellphire Therapeutics\n\n\n\nRobert Charles\, Chief Financial Officer\, Digital Harbor Foundation\n\n\n\nSteven Tropello\, Chief Medical Officer\, CoapTech\n\n\n\n\nC-Suite COO of the Year \n\n\n\n\nMatt Boxer\, COO\, Veralox Therapeutics\n\n\n\nMitch Franklin\, COO\, BIOQUAL\n\n\n\nJackie Linaberry\, COO\, JJA Technical Services\n\n\n\n\nLife Sciences Company of the Year \n\n\n\n\nCoapTech\n\n\n\nGeneDx\n\n\n\nMindoula Health\n\n\n\n\nTechnology Company of the Year \n\n\n\n\nThe Canton Group\n\n\n\nComcast Business\n\n\n\nCompassMSP\n\n\n\nGovplace\n\n\n\n\nGovernment Contracting Company of the Year \n\n\n\n\nDigital Infuzion\n\n\n\nGlobal Alliant\n\n\n\nIndex Analytics\n\n\n\nRealmOne\n\n\n\n\nEmerging Life Sciences Company of the Year \n\n\n\n\nCraniUS Therapeutics\n\n\n\nMblue Labs\n\n\n\nPrecigen\n\n\n\nSilvec Biologics\n\n\n\nTrilliumBIO\n\n\n\n\nEmerging Technology Company of the Year \n\n\n\n\nEpoch\n\n\n\nJumpLights\n\n\n\nRedZone Technologies\n\n\n\nRF Safety Laboratory\n\n\n\nxop.ai\n\n\n\n\nEmerging Government Contracting Company of the Year \n\n\n\n\nBlack Eagle Defense\n\n\n\nMcBee Moore & Vanik IP Law\n\n\n\nProcurement Sciences\n\n\n\nPhoenix Integrators\n\n\n\n\nPava LaPere Young Innovator of the Year \n\n\n\nAlden Sullivan\, Co-Founder and CTO\, Uneo Health \n\n\n\nAdeola Ajani\, MBA\, Founder and CEO\, Fem Equity \n\n\n\nYoseph Kim\, CEO\, Optosurgical \n\n\n\nRebecca Rosenberg\, Founder and CEO\, ReBokeh \n\n\n\nSelena Shirkin\, Founder\, Fetal Therapy Technologies
URL:https://evergreenadvisorsllc.com/upcomingevent/maryland-tech-council-icon-awards/
LOCATION:Bethesda North Marriott Hotel & Conference Center\, 5701 Marinelli Road\, Bethesda\, MD\, 20852\, United States
END:VEVENT
END:VCALENDAR