BEGIN:VCALENDAR
VERSION:2.0
PRODID:-//Evergreen Advisors - ECPv6.15.20//NONSGML v1.0//EN
CALSCALE:GREGORIAN
METHOD:PUBLISH
X-WR-CALNAME:Evergreen Advisors
X-ORIGINAL-URL:https://evergreenadvisorsllc.com
X-WR-CALDESC:Events for Evergreen Advisors
REFRESH-INTERVAL;VALUE=DURATION:PT1H
X-Robots-Tag:noindex
X-PUBLISHED-TTL:PT1H
BEGIN:VTIMEZONE
TZID:America/New_York
BEGIN:DAYLIGHT
TZOFFSETFROM:-0500
TZOFFSETTO:-0400
TZNAME:EDT
DTSTART:20230312T070000
END:DAYLIGHT
BEGIN:STANDARD
TZOFFSETFROM:-0400
TZOFFSETTO:-0500
TZNAME:EST
DTSTART:20231105T060000
END:STANDARD
BEGIN:DAYLIGHT
TZOFFSETFROM:-0500
TZOFFSETTO:-0400
TZNAME:EDT
DTSTART:20240310T070000
END:DAYLIGHT
BEGIN:STANDARD
TZOFFSETFROM:-0400
TZOFFSETTO:-0500
TZNAME:EST
DTSTART:20241103T060000
END:STANDARD
BEGIN:DAYLIGHT
TZOFFSETFROM:-0500
TZOFFSETTO:-0400
TZNAME:EDT
DTSTART:20250309T070000
END:DAYLIGHT
BEGIN:STANDARD
TZOFFSETFROM:-0400
TZOFFSETTO:-0500
TZNAME:EST
DTSTART:20251102T060000
END:STANDARD
END:VTIMEZONE
BEGIN:VEVENT
DTSTART;TZID=America/New_York:20241202T163000
DTEND;TZID=America/New_York:20241202T190000
DTSTAMP:20260422T153905
CREATED:20241126T215914Z
LAST-MODIFIED:20241126T215917Z
UID:24110-1733157000-1733166000@evergreenadvisorsllc.com
SUMMARY:XPX Maryland Holiday Party
DESCRIPTION:Come celebrate the joy of the season with some of the most highly respected professionals in the area. This will be an excellent opportunity to reconnect with old XPX Members and meet some of our new members and guests. Heavy hors d’ourves and 2 drinks will be provided.
URL:https://evergreenadvisorsllc.com/upcomingevent/xpx-maryland-holiday-party/
LOCATION:Phoenix Upper Main\, 8308 Main St\, Ellicott City\, Maryland\, 21043\, United States
END:VEVENT
BEGIN:VEVENT
DTSTART;TZID=America/New_York:20241203T170000
DTEND;TZID=America/New_York:20241203T183000
DTSTAMP:20260422T153905
CREATED:20241126T214050Z
LAST-MODIFIED:20241126T214839Z
UID:24096-1733245200-1733250600@evergreenadvisorsllc.com
SUMMARY:IT Security Practitioner Roundtable
DESCRIPTION:From the Cybersecurity Association – Network with your fellow CISOs\, CIOs\, and IT directors in a relaxed and informative setting. This roundtable discussion provides a platform to share insights\, discuss emerging threats\, and explore innovative solutions to safeguard your organization’s digital assets. \n\n\n\nThank you to this month’s host\, Harkins Builders! \n\n\n\n \n\n\n\nSorry\, this event is not open to cyber/IT product and service providers
URL:https://evergreenadvisorsllc.com/upcomingevent/it-security-practitioner-roundtable/
ATTACH;FMTTYPE=image/jpeg:https://evergreenadvisorsllc.com/wp-content/uploads/2024/11/1732046686450.jpg
END:VEVENT
BEGIN:VEVENT
DTSTART;TZID=America/New_York:20241204T080000
DTEND;TZID=America/New_York:20241204T170000
DTSTAMP:20260422T153905
CREATED:20240808T171639Z
LAST-MODIFIED:20241126T214956Z
UID:22938-1733299200-1733331600@evergreenadvisorsllc.com
SUMMARY:Tedco's 2024 Entreprenuer Expo
DESCRIPTION:TEDCO’s 10th Entrepreneur Expo will be held Wednesday\, December 4\, 2024 at the Renaissance Baltimore Harborplace Hotel. The Expo is a premier event in Maryland showcasing various resources from across the State and is jam-packed full of workshops\, roundtable discussions\, exhibiting companies and pitches\, opening up great opportunities for entrepreneurs to network\, learn\, and be inspired.  \n\n\n\nJoin us for a day of celebration where you can expect to see 1000+ of the region’s top entrepreneurs\, business owners\, angel and venture capital investors\, legislators\, and influencers. \n\n\n\nPast Entrepreneur Expo Highlights: \n\n\n\n\n1\,000 Attendees\n\n\n\n95 Inspiring speakers\n\n\n\n84 Exhibitors\n\n\n\n34 Startup Exhibitors\n\n\n\n24 Sessions\n\n\n\nCountless opportunities to network and meet the leaders and influencers of Maryland’s entrepreneurial community\n\n\n\n\nPlease spread the word to your community\, as this is a great opportunity for anyone involved in the Maryland entrepreneurial ecosystem.
URL:https://evergreenadvisorsllc.com/upcomingevent/tedcos-2024-entreprenuer-expo/
ATTACH;FMTTYPE=image/jpeg:https://evergreenadvisorsllc.com/wp-content/uploads/2024/08/1732632437602.jpg
END:VEVENT
END:VCALENDAR