BEGIN:VCALENDAR
VERSION:2.0
PRODID:-//Evergreen Advisors - ECPv6.15.20//NONSGML v1.0//EN
CALSCALE:GREGORIAN
METHOD:PUBLISH
X-WR-CALNAME:Evergreen Advisors
X-ORIGINAL-URL:https://evergreenadvisorsllc.com
X-WR-CALDESC:Events for Evergreen Advisors
REFRESH-INTERVAL;VALUE=DURATION:PT1H
X-Robots-Tag:noindex
X-PUBLISHED-TTL:PT1H
BEGIN:VTIMEZONE
TZID:UTC
BEGIN:STANDARD
TZOFFSETFROM:+0000
TZOFFSETTO:+0000
TZNAME:UTC
DTSTART:20180101T000000
END:STANDARD
END:VTIMEZONE
BEGIN:VEVENT
DTSTART;TZID=UTC:20190513T160000
DTEND;TZID=UTC:20190513T190000
DTSTAMP:20260422T182915
CREATED:20190320T224327Z
LAST-MODIFIED:20190423T185116Z
UID:9296-1557763200-1557774000@evergreenadvisorsllc.com
SUMMARY:XPX MARYLAND SPRING NETWORKING EVENT
DESCRIPTION:Join us for our Spring Networking Event. Come celebrate Spring with some of the most highly respected professionals in our area. The event is being held at Mutiny Pirate Bar & Island Grille in Elkridge. Mutiny embraces the pirate lifestyle\, allowing guests to cut loose\, be themselves\, and forget about all the stuff that makes life so tedious. They have amazing food\, inventive cocktails\, and a selection of craft beers.
URL:https://evergreenadvisorsllc.com/upcomingevent/xpx-maryland-spring-networking-event/
LOCATION:Pirate Mutiny Bar & Island Grille\, 7190 Troy Hill Drive  Suite 500 \, Elkridge\, MD\, 20175
END:VEVENT
BEGIN:VEVENT
DTSTART;TZID=UTC:20190508T180000
DTEND;TZID=UTC:20190508T203000
DTSTAMP:20260422T182915
CREATED:20190430T170421Z
LAST-MODIFIED:20200201T020112Z
UID:9394-1557338400-1557347400@evergreenadvisorsllc.com
SUMMARY:SoPE National Capital Chapter: The Titanic Effect: Successfully Navigating...
DESCRIPTION:This presentation will help startups and their investors and supporters identify and manage the hidden debts resulting from making decisions under conditions of uncertainty. Don’t let the Titanic Effect sink your startup!\n\n\n\n\n\n\n\n\n\n\n\n\n\n  \n\n\n\n\n\n\n\n\n\n\n\n\n\nThe Titanic represents to many of us the iconic tale of what happens when an unstoppable force meets an immovable object. The tragedy is embodied in that instant when The Ship struck The Iceberg\, killing over 1\,500 passengers and crew—and the hubris of thinking we can build something too big to fail. But while the iceberg may have represented the killing blow\, what many do not realize is that the demise of the Titanic was in fact a result of a series of small decisions and missteps across a number of dimensions. \nTales of venture failure also often focus on the defining moment when a lost customer\, a lack of investor dollars\, or a product malfunction results in the death of a promising startup. But that failure is nearly always the result of a series of errors that were not obvious—problems that lurked beneath the surface—that were a consequence of navigating uncertainty in the early stages of development. These errors take the form of hidden non-financial debts that gradually weigh down the budding enterprise. While financial debts are obvious and easy to measure\, the hidden debts we explore are obligations and barriers to success that are not as easy to identify\, and an unintended consequence of navigating uncertainty. \nThis presentation\, based on the book of the same name\, will help startups and their investors and supporters identify and manage the hidden debts resulting from making decisions under conditions of uncertainty. Don’t let the Titanic Effect sink your startup! \nSee the website www.titaniceffect.com for more and to sign up for our blogs on startup success. \n\n\n\n\n\n\n\n\n\n\n\n\n\n  \n\n\n\n\n\n\n\n\n\n\n\n\n 
URL:https://evergreenadvisorsllc.com/upcomingevent/sope-national-capital-chapter-the-titanic-effect-successfully-navigating/
LOCATION:Inova Center for Personalized Health\, 3225 Gallows Rd\, Fairfax\, VA\, 22031
END:VEVENT
BEGIN:VEVENT
DTSTART;TZID=UTC:20190502T070000
DTEND;TZID=UTC:20190502T110000
DTSTAMP:20260422T182915
CREATED:20190429T190427Z
LAST-MODIFIED:20190429T190744Z
UID:9384-1556780400-1556794800@evergreenadvisorsllc.com
SUMMARY:Big Idea CONNECTprenuer
DESCRIPTION:The Big Idea CONNECTprenuer Forum is a Community of over 8\,000 Ceo’s\, Entrepreneurs\, VCs and angels\, CXOs and other business leaders in the Mid-Atlantic Region.  \nThis UNIQUE EVENT is like NONE OTHER in our region\, due to the high quality of our attendees and participants\, as well as our programming and unprecedented networking. \nMost of the attendees are INVITATION ONLY\, and we strictly limit service provider participation in order to maximize the experience for our Attendees and Sponsors. \n 
URL:https://evergreenadvisorsllc.com/upcomingevent/9384/
LOCATION:Two Merriweather\, 10960 Grantchester Way\, 5th Floor\, Columbia\, MD\, 20144
END:VEVENT
BEGIN:VEVENT
DTSTART;TZID=UTC:20190501T080000
DTEND;TZID=UTC:20190502T170000
DTSTAMP:20260422T182915
CREATED:20190426T221544Z
LAST-MODIFIED:20190426T221544Z
UID:9366-1556697600-1556816400@evergreenadvisorsllc.com
SUMMARY:Global Cyber Summit
DESCRIPTION:  \nThe inaugural 2019 Global Cyber Innovation Summit brings together a preeminent group of leading Global 2000 CISO executives\, cyber technology innovators\, policy thought leaders\, and members of the cyber investment community to catalyze the industry into creating more effective cyber defenses. This unique\, invitation-only forum will foster a dynamic exchange of ideas\, discussion and collaboration designed to drive true innovation in the efficiency and effectiveness of global cyber security strategies and solutions. CARPE COMMINATIONE.
URL:https://evergreenadvisorsllc.com/upcomingevent/global-cyber-summit/
LOCATION:MD
END:VEVENT
BEGIN:VEVENT
DTSTART;TZID=UTC:20190419T073000
DTEND;TZID=UTC:20190419T100000
DTSTAMP:20260422T182915
CREATED:20190320T223749Z
LAST-MODIFIED:20190320T223749Z
UID:9293-1555659000-1555668000@evergreenadvisorsllc.com
SUMMARY:XPX Maryland Breakfast
DESCRIPTION:Brian Briggs\, President of TIC Gums\, Inc.\, shares his experiences guiding this 3rd Generation\, Family-Owned\, Baltimore business through its $400 Million sale to Ingredion. \nOriginally hired as the CFO of TIC in 2014\, Brian served on the Board of Directors and as COO prior to being named President in 2016. Mr. Briggs will discuss preparing TIC for an acquisition\, the sale process\, and post-sale integration. \nMr. Briggs has over 25 years of financial and operations experience in profitably building companies in both the public and private equity sectors\, with a focus on operational excellence and M&A activity. \nPrior to TIC\, Brian was the CFO of Cyren and worked with Sterling Capital Partners as EVP and CFO of portfolio company\, SecureNet. Brian served for twelve years as EVP and CFO of Custom Direct\, Inc.\, leading the company through a series of acquisitions and an eventual IPO. During that period\, he was instrumental in building EZShield\, Inc.\, a subsidiary of Custom Direct.
URL:https://evergreenadvisorsllc.com/upcomingevent/xpx-maryland-breakfast/
LOCATION:Rolling Road Golf Club\, Catonsville\, MD\, 21228
END:VEVENT
BEGIN:VEVENT
DTSTART;TZID=UTC:20190411T080000
DTEND;TZID=UTC:20190411T200000
DTSTAMP:20260422T182915
CREATED:20190109T020639Z
LAST-MODIFIED:20190114T234640Z
UID:9089-1554969600-1555012800@evergreenadvisorsllc.com
SUMMARY:Maryland Cyber Day / Awards Celebration
DESCRIPTION:
URL:https://evergreenadvisorsllc.com/upcomingevent/maryland-cyber-day-awards-celebration/
LOCATION:MD
END:VEVENT
BEGIN:VEVENT
DTSTART;TZID=UTC:20190326T080000
DTEND;TZID=UTC:20190326T170000
DTSTAMP:20260422T182915
CREATED:20190109T020553Z
LAST-MODIFIED:20190109T020553Z
UID:9087-1553587200-1553619600@evergreenadvisorsllc.com
SUMMARY:Cybersecurity Association of Maryland Cyber Warrior Event
DESCRIPTION:
URL:https://evergreenadvisorsllc.com/upcomingevent/cybersecurity-association-of-maryland-cyber-warrior-event/
LOCATION:MD
END:VEVENT
BEGIN:VEVENT
DTSTART;TZID=UTC:20190314T160000
DTEND;TZID=UTC:20190314T190000
DTSTAMP:20260422T182915
CREATED:20190128T202215Z
LAST-MODIFIED:20190128T202215Z
UID:9128-1552579200-1552590000@evergreenadvisorsllc.com
SUMMARY:Artificial Intelligence: Industry Perspectives and Impacts
DESCRIPTION:How is Artificial Intelligence being applied across industries? What is its future – including limits and risks? Hear from local entrepreneurs\, practitioners and investors about the role AI is playing in finance\, health care\, diagnostics and future applications. \nAgenda \n4:00 PM\nDoors Open \n4:30 PM – 5:30 PM \nWelcome and Panel Discussion: \nAnne Balduzzi\, Director\, Advisory Services\, TEDCO\nJeehye Yun\, Founder/CEO\, RedShred\nNick Culbertson\, Founder\, Protenus\nAshley Llorens\, Director of Intelligent Systems\, JHU Applied Physics Laboratory\nEliot Siegel\, Chief of Radiology and Nuclear Medicine for Veterans Affairs\, Maryland Healthcare System
URL:https://evergreenadvisorsllc.com/upcomingevent/artificial-intelligence-industry-perspectives-and-impacts/
LOCATION:UM BioPark\, 801 West Baltimore St\, Baltimore\, MD\, 21201
END:VEVENT
END:VCALENDAR