BEGIN:VCALENDAR
VERSION:2.0
PRODID:-//Evergreen Advisors - ECPv6.15.20//NONSGML v1.0//EN
CALSCALE:GREGORIAN
METHOD:PUBLISH
X-ORIGINAL-URL:https://evergreenadvisorsllc.com
X-WR-CALDESC:Events for Evergreen Advisors
REFRESH-INTERVAL;VALUE=DURATION:PT1H
X-Robots-Tag:noindex
X-PUBLISHED-TTL:PT1H
BEGIN:VTIMEZONE
TZID:America/New_York
BEGIN:DAYLIGHT
TZOFFSETFROM:-0500
TZOFFSETTO:-0400
TZNAME:EDT
DTSTART:20240310T070000
END:DAYLIGHT
BEGIN:STANDARD
TZOFFSETFROM:-0400
TZOFFSETTO:-0500
TZNAME:EST
DTSTART:20241103T060000
END:STANDARD
BEGIN:DAYLIGHT
TZOFFSETFROM:-0500
TZOFFSETTO:-0400
TZNAME:EDT
DTSTART:20250309T070000
END:DAYLIGHT
BEGIN:STANDARD
TZOFFSETFROM:-0400
TZOFFSETTO:-0500
TZNAME:EST
DTSTART:20251102T060000
END:STANDARD
BEGIN:DAYLIGHT
TZOFFSETFROM:-0500
TZOFFSETTO:-0400
TZNAME:EDT
DTSTART:20260308T070000
END:DAYLIGHT
BEGIN:STANDARD
TZOFFSETFROM:-0400
TZOFFSETTO:-0500
TZNAME:EST
DTSTART:20261101T060000
END:STANDARD
END:VTIMEZONE
BEGIN:VEVENT
DTSTART;TZID=America/New_York:20251019T163000
DTEND;TZID=America/New_York:20251023T193000
DTSTAMP:20260421T214915
CREATED:20250304T133044Z
LAST-MODIFIED:20250304T133048Z
UID:25119-1760891400-1761247800@evergreenadvisorsllc.com
SUMMARY:62nd Annual NAEPC Estate Planning Strategies Conference
DESCRIPTION:Join leaders in estate planning for the 62nd Annual NAEPC Advanced Estate Planning Strategies Conference & Council Leadership Conference at the Gaylord National Resort and Convention Center.  \n\n\n\nWho Should Attend? \n\n\n\nThe conference educational sessions are for every member of every estate planning council and all estate planning professionals regardless of membership status. The Annual Conference offers an opportunity to cultivate important new multi-disciplinary relationships while collaborating on cutting edge ideas and trends. \n\n\n\nFollowing\, we’ll host the Council Leadership Conference (formerly known as “Council Leadership Day”) where leaders from councils around the country convene to learn best practices to maintain and create a thriving local council from peers. These sessions are limited to individuals currently serving as volunteer board members or staff executive/administrator for a local council.
URL:https://evergreenadvisorsllc.com/upcomingevent/62nd-annual-naepc-estate-planning-strategies-conference/
END:VEVENT
BEGIN:VEVENT
DTSTART;TZID=America/New_York:20251029T080000
DTEND;TZID=America/New_York:20251029T170000
DTSTAMP:20260421T214915
CREATED:20250626T134458Z
LAST-MODIFIED:20250626T134500Z
UID:25546-1761724800-1761757200@evergreenadvisorsllc.com
SUMMARY:Mid-Atlantic Capital Conference
DESCRIPTION:The Mid-Atlantic Capital Conference will return on October 29-30\, 2025 at the Philadelphia Marriott Downtown. Connect with key players from the private equity\, venture capital\, and entrepreneurial communities in a city with a 350-year legacy of innovation\, inclusion\, and entrepreneurship for a vibrant mix of company presentations from 60+ up-and-coming technology\, healthcare\, and growth-stage companies\, tons of networking\, business meetings\, and panel discussions.
URL:https://evergreenadvisorsllc.com/upcomingevent/mid-atlantic-capital-conference/
END:VEVENT
END:VCALENDAR