BEGIN:VCALENDAR
VERSION:2.0
PRODID:-//Evergreen Advisors - ECPv6.15.20//NONSGML v1.0//EN
CALSCALE:GREGORIAN
METHOD:PUBLISH
X-ORIGINAL-URL:https://evergreenadvisorsllc.com
X-WR-CALDESC:Events for Evergreen Advisors
REFRESH-INTERVAL;VALUE=DURATION:PT1H
X-Robots-Tag:noindex
X-PUBLISHED-TTL:PT1H
BEGIN:VTIMEZONE
TZID:America/New_York
BEGIN:DAYLIGHT
TZOFFSETFROM:-0500
TZOFFSETTO:-0400
TZNAME:EDT
DTSTART:20240310T070000
END:DAYLIGHT
BEGIN:STANDARD
TZOFFSETFROM:-0400
TZOFFSETTO:-0500
TZNAME:EST
DTSTART:20241103T060000
END:STANDARD
BEGIN:DAYLIGHT
TZOFFSETFROM:-0500
TZOFFSETTO:-0400
TZNAME:EDT
DTSTART:20250309T070000
END:DAYLIGHT
BEGIN:STANDARD
TZOFFSETFROM:-0400
TZOFFSETTO:-0500
TZNAME:EST
DTSTART:20251102T060000
END:STANDARD
BEGIN:DAYLIGHT
TZOFFSETFROM:-0500
TZOFFSETTO:-0400
TZNAME:EDT
DTSTART:20260308T070000
END:DAYLIGHT
BEGIN:STANDARD
TZOFFSETFROM:-0400
TZOFFSETTO:-0500
TZNAME:EST
DTSTART:20261101T060000
END:STANDARD
END:VTIMEZONE
BEGIN:VEVENT
DTSTART;TZID=America/New_York:20250424T053000
DTEND;TZID=America/New_York:20250424T193000
DTSTAMP:20260422T092931
CREATED:20250304T133306Z
LAST-MODIFIED:20250304T133310Z
UID:25123-1745472600-1745523000@evergreenadvisorsllc.com
SUMMARY:Howard County Estate Planning Council Happy Hour
DESCRIPTION:Join us for our popular Spring Networking Happy Hour! We will meet at the popular new spot Vacation. \n\n\n\nThis is a great opportunity to introduce non-member colleagues to the Council. Guests are warmly welcome. \n\n\n\nHappy Hour nibbles and and two drink tickets included in the registration fee.
URL:https://evergreenadvisorsllc.com/upcomingevent/howard-county-estate-planning-council-happy-hour/
END:VEVENT
END:VCALENDAR