BEGIN:VCALENDAR
VERSION:2.0
PRODID:-//Evergreen Advisors - ECPv6.15.20//NONSGML v1.0//EN
CALSCALE:GREGORIAN
METHOD:PUBLISH
X-ORIGINAL-URL:https://evergreenadvisorsllc.com
X-WR-CALDESC:Events for Evergreen Advisors
REFRESH-INTERVAL;VALUE=DURATION:PT1H
X-Robots-Tag:noindex
X-PUBLISHED-TTL:PT1H
BEGIN:VTIMEZONE
TZID:America/New_York
BEGIN:DAYLIGHT
TZOFFSETFROM:-0500
TZOFFSETTO:-0400
TZNAME:EDT
DTSTART:20240310T070000
END:DAYLIGHT
BEGIN:STANDARD
TZOFFSETFROM:-0400
TZOFFSETTO:-0500
TZNAME:EST
DTSTART:20241103T060000
END:STANDARD
BEGIN:DAYLIGHT
TZOFFSETFROM:-0500
TZOFFSETTO:-0400
TZNAME:EDT
DTSTART:20250309T070000
END:DAYLIGHT
BEGIN:STANDARD
TZOFFSETFROM:-0400
TZOFFSETTO:-0500
TZNAME:EST
DTSTART:20251102T060000
END:STANDARD
BEGIN:DAYLIGHT
TZOFFSETFROM:-0500
TZOFFSETTO:-0400
TZNAME:EDT
DTSTART:20260308T070000
END:DAYLIGHT
BEGIN:STANDARD
TZOFFSETFROM:-0400
TZOFFSETTO:-0500
TZNAME:EST
DTSTART:20261101T060000
END:STANDARD
END:VTIMEZONE
BEGIN:VEVENT
DTSTART;TZID=America/New_York:20250312T083000
DTEND;TZID=America/New_York:20250312T100000
DTSTAMP:20260422T114545
CREATED:20250228T141818Z
LAST-MODIFIED:20250228T141818Z
UID:25098-1741768200-1741773600@evergreenadvisorsllc.com
SUMMARY:Cybersecurity Association: Doing Business With the NSA
DESCRIPTION:The Cybersecurity Association hosts Brian Shay\, Customer Outreach Advocate\, Small Business Programs at the National Security Agency (NSA)  \n\n\n\nTopics of Interest: \n\n\n\n\nNSA’s goals for Woman-Owned and Service-Disabled Veteran-Owned Small Businesses\n\n\n\nRequirements for contracting at NSA\n\n\n\nHow to find acquisition information\n\n\n\nThe importance of networking with industry\n\n\n\n\nCancellations must be made 48 hours prior to event date for a full refund to be issued.
URL:https://evergreenadvisorsllc.com/upcomingevent/cybersecurity-association-doing-business-with-the-nsa/
END:VEVENT
END:VCALENDAR