BEGIN:VCALENDAR
VERSION:2.0
PRODID:-//Evergreen Advisors - ECPv6.15.20//NONSGML v1.0//EN
CALSCALE:GREGORIAN
METHOD:PUBLISH
X-ORIGINAL-URL:https://evergreenadvisorsllc.com
X-WR-CALDESC:Events for Evergreen Advisors
REFRESH-INTERVAL;VALUE=DURATION:PT1H
X-Robots-Tag:noindex
X-PUBLISHED-TTL:PT1H
BEGIN:VTIMEZONE
TZID:America/New_York
BEGIN:DAYLIGHT
TZOFFSETFROM:-0500
TZOFFSETTO:-0400
TZNAME:EDT
DTSTART:20240310T070000
END:DAYLIGHT
BEGIN:STANDARD
TZOFFSETFROM:-0400
TZOFFSETTO:-0500
TZNAME:EST
DTSTART:20241103T060000
END:STANDARD
BEGIN:DAYLIGHT
TZOFFSETFROM:-0500
TZOFFSETTO:-0400
TZNAME:EDT
DTSTART:20250309T070000
END:DAYLIGHT
BEGIN:STANDARD
TZOFFSETFROM:-0400
TZOFFSETTO:-0500
TZNAME:EST
DTSTART:20251102T060000
END:STANDARD
BEGIN:DAYLIGHT
TZOFFSETFROM:-0500
TZOFFSETTO:-0400
TZNAME:EDT
DTSTART:20260308T070000
END:DAYLIGHT
BEGIN:STANDARD
TZOFFSETFROM:-0400
TZOFFSETTO:-0500
TZNAME:EST
DTSTART:20261101T060000
END:STANDARD
END:VTIMEZONE
BEGIN:VEVENT
DTSTART;TZID=America/New_York:20250224T160000
DTEND;TZID=America/New_York:20250224T183000
DTSTAMP:20260422T113023
CREATED:20241213T155932Z
LAST-MODIFIED:20260126T194136Z
UID:24173-1740412800-1740421800@evergreenadvisorsllc.com
SUMMARY:BBJ: Mentoring Monday 2025
DESCRIPTION:Meet and network with our region’s most influential women leaders at our Annual Mentoring Monday event. \n\n\n\nJoin this uplifting community of women empowering other women in programs held in 40 cities across the country from Albany to Honolulu. \n\n\n\nMentoring Monday is a speed networking event designed to be a catalyst for meaningful introductions and engaging conversations with businesswomen representing a variety of industries from all over our region. The event will offer the opportunity for mentees to choose to engage with over 30 mentors who are the most influential women in the business community for one-on-one and group coaching sessions. We expect every attendee to have the opportunity to meet between one and seven mentors. The quick turnaround is organized chaos which will be fast\, fun and fulfilling as everyone gets the chance to meet new people and gain new insights. \n\n\n\n\n\n\n\nThe Event Details\n\n\n\nDate: Monday\, February 24\, 2025 \n\n\n\nTime: 4:00-6:30 pm Eastern Time \n\n\n\nLocation: Towson University Union Ballrooms located in the University Union Building; parking will be provided in specific university lots for attendees.  \n\n\n\nAgenda: \n\n\n\n\n4:00-4:30 pm: Check-in and Networking\n\n\n\n4:30-4:45 pm: Welcome and Keynote Address\n\n\n\n4:45-5:45 pm: Mentoring Sessions\n\n\n\n5:45-6:30 pm: Post-mentoring happy hour\n\n\n\n6:30 pm: Event Concludes\n\n\n\n\nAttire: Business \n\n\n\nTickets: See ‘Get Tickets’ for available ticket options. If you are interested in sponsoring mentee attendance or purchasing bulk tickets\, please contact Events Director Emily Baranoski at ebaranoski@bizjournals.com.  \n\n\n\n\n\n\n\nEvent Format\n\n\n\nThis event features timed speed-coaching sessions. Each mentee will stand in front of the mentor of their choice\, and when the gong sounds\, mentees move to the next mentor of their choice. At the conclusion of the event\, we’ll have a happy hour with light fare and drinks (alcoholic and alcoholic options available).  \n\n\n\nSpeakers: We look forward to welcoming Anna Papalia\, CEO of Interviewology\, as our national virtual kick-off speaker to start the event. For more information on Anna and her work\, see below or visit our national landing page.  \n\n\n\nMentors: Each mentor is hand-selected by BBJ from a range of industries. They are founders\, CEOs\, innovators\, and board members. They volunteer their time to help mentees and they have a lot to share! See below for 2025 mentors.  \n\n\n\nMentees: Mentorship is a proven way to increase your career success. This event is for you if you are looking to learn from an experienced group and network with your peers. Mentees can be entry level to experienced business professionals in Baltimore. \n\n\n\nCoaching Corners: We plan to have additional professional development stations available to attendees. More details coming soon! \n\n\n\n\n\n\n\nEvent Questions\, comments or suggestions?Contact Emily Baranoski at ebaranoski@bizjournals.com \n\n\n\nFor Advertising or Sponsorship Inquiries:Contact Dee Moyano at dmoyano@bizjournals.comGet Tickets
URL:https://evergreenadvisorsllc.com/upcomingevent/bbj-mentoring-monday-2025/
END:VEVENT
END:VCALENDAR