BEGIN:VCALENDAR
VERSION:2.0
PRODID:-//Evergreen Advisors - ECPv6.15.20//NONSGML v1.0//EN
CALSCALE:GREGORIAN
METHOD:PUBLISH
X-WR-CALNAME:Evergreen Advisors
X-ORIGINAL-URL:https://evergreenadvisorsllc.com
X-WR-CALDESC:Events for Evergreen Advisors
REFRESH-INTERVAL;VALUE=DURATION:PT1H
X-Robots-Tag:noindex
X-PUBLISHED-TTL:PT1H
BEGIN:VTIMEZONE
TZID:America/New_York
BEGIN:DAYLIGHT
TZOFFSETFROM:-0500
TZOFFSETTO:-0400
TZNAME:EDT
DTSTART:20230312T070000
END:DAYLIGHT
BEGIN:STANDARD
TZOFFSETFROM:-0400
TZOFFSETTO:-0500
TZNAME:EST
DTSTART:20231105T060000
END:STANDARD
BEGIN:DAYLIGHT
TZOFFSETFROM:-0500
TZOFFSETTO:-0400
TZNAME:EDT
DTSTART:20240310T070000
END:DAYLIGHT
BEGIN:STANDARD
TZOFFSETFROM:-0400
TZOFFSETTO:-0500
TZNAME:EST
DTSTART:20241103T060000
END:STANDARD
BEGIN:DAYLIGHT
TZOFFSETFROM:-0500
TZOFFSETTO:-0400
TZNAME:EDT
DTSTART:20250309T070000
END:DAYLIGHT
BEGIN:STANDARD
TZOFFSETFROM:-0400
TZOFFSETTO:-0500
TZNAME:EST
DTSTART:20251102T060000
END:STANDARD
END:VTIMEZONE
BEGIN:VEVENT
DTSTART;TZID=America/New_York:20241202T163000
DTEND;TZID=America/New_York:20241202T190000
DTSTAMP:20260422T171950
CREATED:20241126T215914Z
LAST-MODIFIED:20241126T215917Z
UID:24110-1733157000-1733166000@evergreenadvisorsllc.com
SUMMARY:XPX Maryland Holiday Party
DESCRIPTION:Come celebrate the joy of the season with some of the most highly respected professionals in the area. This will be an excellent opportunity to reconnect with old XPX Members and meet some of our new members and guests. Heavy hors d’ourves and 2 drinks will be provided.
URL:https://evergreenadvisorsllc.com/upcomingevent/xpx-maryland-holiday-party/
LOCATION:Phoenix Upper Main\, 8308 Main St\, Ellicott City\, Maryland\, 21043\, United States
END:VEVENT
END:VCALENDAR