BEGIN:VCALENDAR
VERSION:2.0
PRODID:-//Evergreen Advisors - ECPv6.15.20//NONSGML v1.0//EN
CALSCALE:GREGORIAN
METHOD:PUBLISH
X-ORIGINAL-URL:https://evergreenadvisorsllc.com
X-WR-CALDESC:Events for Evergreen Advisors
REFRESH-INTERVAL;VALUE=DURATION:PT1H
X-Robots-Tag:noindex
X-PUBLISHED-TTL:PT1H
BEGIN:VTIMEZONE
TZID:America/New_York
BEGIN:DAYLIGHT
TZOFFSETFROM:-0500
TZOFFSETTO:-0400
TZNAME:EDT
DTSTART:20230312T070000
END:DAYLIGHT
BEGIN:STANDARD
TZOFFSETFROM:-0400
TZOFFSETTO:-0500
TZNAME:EST
DTSTART:20231105T060000
END:STANDARD
BEGIN:DAYLIGHT
TZOFFSETFROM:-0500
TZOFFSETTO:-0400
TZNAME:EDT
DTSTART:20240310T070000
END:DAYLIGHT
BEGIN:STANDARD
TZOFFSETFROM:-0400
TZOFFSETTO:-0500
TZNAME:EST
DTSTART:20241103T060000
END:STANDARD
BEGIN:DAYLIGHT
TZOFFSETFROM:-0500
TZOFFSETTO:-0400
TZNAME:EDT
DTSTART:20250309T070000
END:DAYLIGHT
BEGIN:STANDARD
TZOFFSETFROM:-0400
TZOFFSETTO:-0500
TZNAME:EST
DTSTART:20251102T060000
END:STANDARD
END:VTIMEZONE
BEGIN:VEVENT
DTSTART;TZID=America/New_York:20241030T080000
DTEND;TZID=America/New_York:20241030T110000
DTSTAMP:20260422T192018
CREATED:20241025T173109Z
LAST-MODIFIED:20241025T173206Z
UID:23850-1730275200-1730286000@evergreenadvisorsllc.com
SUMMARY:Why Didn't I Know That
DESCRIPTION:Why Didn’t I Know That?: A Business Growth & Innovation Summit \n\n\n\n\n\n\n\n\n\n\n\n\n\n“Why Didn’t I Know That?” serves to connect and inspire C-suite executives through candid conversation and actionable advice. \n\n\n\nAs an attendee\, you’ll get a backstage view as our expert speakers discuss your burning questions. \n\n\n\n\nWhat’s Next? How AI will shape cybersecurity and government contracting.\n\n\n\nWhy Didn’t I Know That? What successful CEOs wish they knew pre-and post-sale.\n\n\n\nWhy Don’t Tech Executives Buy My Products or Services?\n\n\n\n\nDuring the summit\, there will be plenty of opportunities to network with cyber and GovCon leaders and engage with hand-selected vendors.
URL:https://evergreenadvisorsllc.com/upcomingevent/23850/
END:VEVENT
END:VCALENDAR