BEGIN:VCALENDAR
VERSION:2.0
PRODID:-//Evergreen Advisors - ECPv6.15.20//NONSGML v1.0//EN
CALSCALE:GREGORIAN
METHOD:PUBLISH
X-WR-CALNAME:Evergreen Advisors
X-ORIGINAL-URL:https://evergreenadvisorsllc.com
X-WR-CALDESC:Events for Evergreen Advisors
REFRESH-INTERVAL;VALUE=DURATION:PT1H
X-Robots-Tag:noindex
X-PUBLISHED-TTL:PT1H
BEGIN:VTIMEZONE
TZID:America/New_York
BEGIN:DAYLIGHT
TZOFFSETFROM:-0500
TZOFFSETTO:-0400
TZNAME:EDT
DTSTART:20230312T070000
END:DAYLIGHT
BEGIN:STANDARD
TZOFFSETFROM:-0400
TZOFFSETTO:-0500
TZNAME:EST
DTSTART:20231105T060000
END:STANDARD
BEGIN:DAYLIGHT
TZOFFSETFROM:-0500
TZOFFSETTO:-0400
TZNAME:EDT
DTSTART:20240310T070000
END:DAYLIGHT
BEGIN:STANDARD
TZOFFSETFROM:-0400
TZOFFSETTO:-0500
TZNAME:EST
DTSTART:20241103T060000
END:STANDARD
BEGIN:DAYLIGHT
TZOFFSETFROM:-0500
TZOFFSETTO:-0400
TZNAME:EDT
DTSTART:20250309T070000
END:DAYLIGHT
BEGIN:STANDARD
TZOFFSETFROM:-0400
TZOFFSETTO:-0500
TZNAME:EST
DTSTART:20251102T060000
END:STANDARD
END:VTIMEZONE
BEGIN:VEVENT
DTSTART;TZID=America/New_York:20241022T180000
DTEND;TZID=America/New_York:20241022T203000
DTSTAMP:20260422T210913
CREATED:20240912T150844Z
LAST-MODIFIED:20240924T193031Z
UID:23320-1729620000-1729629000@evergreenadvisorsllc.com
SUMMARY:Maximizing Profits: Strategies for Supply Chain Efficiency & Logistics Cost Reduction
DESCRIPTION:Panel & Networking Event \n\n\n\nVenue: The Oak Room – 119 Powers Ferry Rd\, Marietta\, GA 30067 \n\n\n\n\n\nHosted By: Evergreen Location Strategies\, Freightro\, Bennett Thrasher & Pinnacle Financial Partners \n\n\n\nAre you ready to take your business to the next level? You’re invited to a special panel discussion and networking event hosted by Evergreen Location Strategies\, focused on supply chain optimization—a key driver for boosting your business’ bottom line. \n\n\n\nBy attending\, you’ll gain a deeper understanding of how to optimize your supply chain to cut costs\, increase efficiency\, and sharpen your competitive edge. Not only will you hear from our esteemed industry leaders\, but you’ll also have the chance to network with peers and experts to exchange ideas\, share challenges\, and discover new approaches to transform your business. \n\n\n\nWhat to Expect: \n\n\n\nPanel Discussion: Hear from top industry leaders as they share their proven strategies for optimizing supply chains and driving business success. \n\n\n\nInteractive Q&A: Engage directly with industry leaders\, ask your questions\, and gain actionable insights tailored to your business needs. \n\n\n\nNetworking Hour & Dinner: Connect with our presenters and fellow attendees over drinks and dinner. \n\n\n\nRSVP:  \n\n\n\nPlease RSVP to Shelly Carmichael at scarmichael@evergreenadvisorsllc.com
URL:https://evergreenadvisorsllc.com/upcomingevent/maximizing-profits-smart-strategies-for-supply-chain-reduction-and-efficiency/
ATTACH;FMTTYPE=image/png:https://evergreenadvisorsllc.com/wp-content/uploads/2024/09/Deal-Announcements-3.png
END:VEVENT
END:VCALENDAR