BEGIN:VCALENDAR
VERSION:2.0
PRODID:-//Evergreen Advisors - ECPv6.15.20//NONSGML v1.0//EN
CALSCALE:GREGORIAN
METHOD:PUBLISH
X-WR-CALNAME:Evergreen Advisors
X-ORIGINAL-URL:https://evergreenadvisorsllc.com
X-WR-CALDESC:Events for Evergreen Advisors
REFRESH-INTERVAL;VALUE=DURATION:PT1H
X-Robots-Tag:noindex
X-PUBLISHED-TTL:PT1H
BEGIN:VTIMEZONE
TZID:America/New_York
BEGIN:DAYLIGHT
TZOFFSETFROM:-0500
TZOFFSETTO:-0400
TZNAME:EDT
DTSTART:20230312T070000
END:DAYLIGHT
BEGIN:STANDARD
TZOFFSETFROM:-0400
TZOFFSETTO:-0500
TZNAME:EST
DTSTART:20231105T060000
END:STANDARD
BEGIN:DAYLIGHT
TZOFFSETFROM:-0500
TZOFFSETTO:-0400
TZNAME:EDT
DTSTART:20240310T070000
END:DAYLIGHT
BEGIN:STANDARD
TZOFFSETFROM:-0400
TZOFFSETTO:-0500
TZNAME:EST
DTSTART:20241103T060000
END:STANDARD
BEGIN:DAYLIGHT
TZOFFSETFROM:-0500
TZOFFSETTO:-0400
TZNAME:EDT
DTSTART:20250309T070000
END:DAYLIGHT
BEGIN:STANDARD
TZOFFSETFROM:-0400
TZOFFSETTO:-0500
TZNAME:EST
DTSTART:20251102T060000
END:STANDARD
END:VTIMEZONE
BEGIN:VEVENT
DTSTART;TZID=America/New_York:20241010T073000
DTEND;TZID=America/New_York:20241010T180000
DTSTAMP:20260422T210910
CREATED:20240803T183723Z
LAST-MODIFIED:20240822T051001Z
UID:22855-1728545400-1728583200@evergreenadvisorsllc.com
SUMMARY:Bio Innovation Conference 2024
DESCRIPTION:The Maryland Life Sciences Bio Innovation Conference will connect top life sciences professionals in the region with leading global brands\, venture capitalists and promising startups. Created by life sciences professionals for life sciences professionals\, this forum offers an exciting and unique opportunity to reach industry leaders and decision makers across the industry and demonstrate to colleagues and clients how your products or services can lead the way to a healthier tomorrow. Click here to learn more. \n\n\n\nThis year’s conference is a full one-day format.  Attendees will have access to an exhibit hall.  The conference further fosters networking and business development opportunities through the BIO One-on-One Partnering System\, along with dedicated networking sessions. \n\n\n\nBIO One-on-One Partnering: \n\n\n\n\nBIO One-on-One Partnering is included in registration fee for industry registered attendees and sponsors.\n\n\n\nBIO One-on-One Partnering is not available for student attendees.\n\n\n\nSolutions Providers who are interested in participating in Bio One-on-One Partnering will need to purchase access for a one time fee of $125\, in addition to their registration cost.  This fee is found on the registration page as an add on purchase.\n\n\n\nExhibitor staffing do not have access to BIO 1:1 partnering.
URL:https://evergreenadvisorsllc.com/upcomingevent/bio-innovation-conference-2024/
LOCATION:Bethesda North Marriott Hotel & Conference Center\, 5701 Marinelli Road\, Bethesda\, MD\, 20852\, United States
END:VEVENT
END:VCALENDAR